BEGIN:VCALENDAR
VERSION:2.0
PRODID:-//J24 Ireland - ECPv4.9.1.1//NONSGML v1.0//EN
CALSCALE:GREGORIAN
METHOD:PUBLISH
X-WR-CALNAME:J24 Ireland
X-ORIGINAL-URL:https://j24ireland.ie
X-WR-CALDESC:Events for J24 Ireland
BEGIN:VEVENT
DTSTART;VALUE=DATE:20230826
DTEND;VALUE=DATE:20230828
DTSTAMP:20260420T203600
CREATED:20230211T115726Z
LAST-MODIFIED:20230211T115726Z
UID:4318-1693008000-1693180799@j24ireland.ie
SUMMARY:Eastern Championships 2023
DESCRIPTION:
URL:https://j24ireland.ie/event/eastern-championships-2023/
LOCATION:Royal Irish Yacht Club\, ROYAL IRISH YACHT CLUB 7 HARBOUR ROAD DUN LAOGHAIRE CO. DUBLIN\, A96 RC84
END:VEVENT
END:VCALENDAR