BEGIN:VCALENDAR
VERSION:2.0
PRODID:-//J24 Ireland - ECPv4.9.1.1//NONSGML v1.0//EN
CALSCALE:GREGORIAN
METHOD:PUBLISH
X-WR-CALNAME:J24 Ireland
X-ORIGINAL-URL:https://j24ireland.ie
X-WR-CALDESC:Events for J24 Ireland
BEGIN:VEVENT
DTSTART;VALUE=DATE:20210828
DTEND;VALUE=DATE:20210830
DTSTAMP:20260420T215050
CREATED:20210130T130936Z
LAST-MODIFIED:20210703T084354Z
UID:3774-1630108800-1630281599@j24ireland.ie
SUMMARY:J24 Easterns
DESCRIPTION:J24 Easterns at Howth Yacht Club.\nNOR and online entry now available.\nhttps://www.hyc.ie/open-events?year=2021#event-346  \n
URL:https://j24ireland.ie/event/j24-easterns/
LOCATION:Howth Yacht Club\, Middle Pier\, Howth Harbour\, Howth\, Dublin\, 9WQJ+HR\, Ireland
END:VEVENT
END:VCALENDAR