BEGIN:VCALENDAR
VERSION:2.0
PRODID:-//J24 Ireland - ECPv4.9.1.1//NONSGML v1.0//EN
CALSCALE:GREGORIAN
METHOD:PUBLISH
X-WR-CALNAME:J24 Ireland
X-ORIGINAL-URL:https://j24ireland.ie
X-WR-CALDESC:Events for J24 Ireland
BEGIN:VEVENT
DTSTART;VALUE=DATE:20190823
DTEND;VALUE=DATE:20190826
DTSTAMP:20260420T233427
CREATED:20190814T175323Z
LAST-MODIFIED:20190815T211831Z
UID:3356-1566518400-1566777599@j24ireland.ie
SUMMARY:J24 National Championships 2019
DESCRIPTION:Lough Erne Yacht Club is home to the largest fleet of J24s in Ireland. Strong growth in the neighbouring fleets in Sligo & Mullaghmore means there are now over 20 active J24s in the Northwest. The 2019 National Championships promises to be one of the best Irish J24 events in years with first class racing conditions on the “Broad Lough” and excellent hospitality on shore. Visiting sailors can look forward to on site camping facilities or a range of self-catering\, b&b or hotel accommodation close by. \nFurther details can be found on Lough Erne Yacht Club’s website:  leyc.net \n
URL:https://j24ireland.ie/event/j24-national-championships-2019/
LOCATION:Lough Erne\, lough erne yacht club\, Enniskillen\, Fermanagh\, EIRE\, United Kingdom
ATTACH;FMTTYPE=image/jpeg:https://j24ireland.ie/wp-content/uploads/2019/07/J24nats2017__BR_0139_DBrannigan.jpg
END:VEVENT
END:VCALENDAR