BEGIN:VCALENDAR
VERSION:2.0
PRODID:-//J24 Ireland - ECPv4.9.1.1//NONSGML v1.0//EN
CALSCALE:GREGORIAN
METHOD:PUBLISH
X-WR-CALNAME:J24 Ireland
X-ORIGINAL-URL:https://j24ireland.ie
X-WR-CALDESC:Events for J24 Ireland
BEGIN:VEVENT
DTSTART;VALUE=DATE:20210806
DTEND;VALUE=DATE:20210809
DTSTAMP:20260420T215230
CREATED:20210130T130410Z
LAST-MODIFIED:20210703T085353Z
UID:3767-1628208000-1628467199@j24ireland.ie
SUMMARY:J24 National Championships
DESCRIPTION:Sligo Yacht Club are delighted to be hosting the J24 Class Irish National Championships on the weekend of Aug 6-8. We look forward to welcoming visiting boats from all over the Island for what is the highlight event in the J24 racing calendar and for what we hope will be the largest J24 Class event for some time. \nNotice of Race and online entry are now available.\nhttp://sligoyachtclub.ie/events/j24-nationals/ \n
URL:https://j24ireland.ie/event/j24-nationals/
LOCATION:Sligo Yacht Club\, 8C4F+PH
END:VEVENT
END:VCALENDAR