BEGIN:VCALENDAR
VERSION:2.0
PRODID:-//J24 Ireland - ECPv4.9.1.1//NONSGML v1.0//EN
CALSCALE:GREGORIAN
METHOD:PUBLISH
X-WR-CALNAME:J24 Ireland
X-ORIGINAL-URL:https://j24ireland.ie
X-WR-CALDESC:Events for J24 Ireland
BEGIN:VEVENT
DTSTART;VALUE=DATE:20200516
DTEND;VALUE=DATE:20200518
DTSTAMP:20260420T232112
CREATED:20191007T175619Z
LAST-MODIFIED:20191007T182450Z
UID:3664-1589587200-1589759999@j24ireland.ie
SUMMARY:J24 Northerns 2020
DESCRIPTION:
URL:https://j24ireland.ie/event/j24-northerns-2020/
LOCATION:Carrickfergus Sailing Club\, Rodgers Quay\, Carrickfergus\, P54r+63\, United Kingdom
END:VEVENT
END:VCALENDAR