BEGIN:VCALENDAR
VERSION:2.0
PRODID:-//J24 Ireland - ECPv4.9.1.1//NONSGML v1.0//EN
CALSCALE:GREGORIAN
METHOD:PUBLISH
X-WR-CALNAME:J24 Ireland
X-ORIGINAL-URL:https://j24ireland.ie
X-WR-CALDESC:Events for J24 Ireland
BEGIN:VEVENT
DTSTART;VALUE=DATE:20200711
DTEND;VALUE=DATE:20200713
DTSTAMP:20260420T231902
CREATED:20191007T180042Z
LAST-MODIFIED:20191007T182346Z
UID:3673-1594425600-1594598399@j24ireland.ie
SUMMARY:J24 Southerns 2020
DESCRIPTION:
URL:https://j24ireland.ie/event/j24-southerns-2020/
LOCATION:Foynes Yacht Club\, Cooleen Point\, Foynes\, Limerick\, JV7M+XX\, Ireland
END:VEVENT
END:VCALENDAR