BEGIN:VCALENDAR
VERSION:2.0
PRODID:-//J24 Ireland - ECPv4.9.1.1//NONSGML v1.0//EN
CALSCALE:GREGORIAN
METHOD:PUBLISH
X-WR-CALNAME:J24 Ireland
X-ORIGINAL-URL:https://j24ireland.ie
X-WR-CALDESC:Events for J24 Ireland
BEGIN:VEVENT
DTSTART;VALUE=DATE:20210619
DTEND;VALUE=DATE:20210621
DTSTAMP:20260420T215458
CREATED:20210130T125909Z
LAST-MODIFIED:20210515T211040Z
UID:3764-1624060800-1624233599@j24ireland.ie
SUMMARY:J24 Southerns
DESCRIPTION:J24 Southerns at Foynes Yacht Club.\n \n  \n
URL:https://j24ireland.ie/event/j24-southerns/
LOCATION:Foynes Yacht Club\, Cooleen Point\, Foynes\, Limerick\, JV7M+XX\, Ireland
END:VEVENT
END:VCALENDAR