BEGIN:VCALENDAR
VERSION:2.0
PRODID:-//J24 Ireland - ECPv4.9.1.1//NONSGML v1.0//EN
CALSCALE:GREGORIAN
METHOD:PUBLISH
X-WR-CALNAME:J24 Ireland
X-ORIGINAL-URL:https://j24ireland.ie
X-WR-CALDESC:Events for J24 Ireland
BEGIN:VEVENT
DTSTART;VALUE=DATE:20200523
DTEND;VALUE=DATE:20200526
DTSTAMP:20260420T220511
CREATED:20191007T182027Z
LAST-MODIFIED:20191007T182027Z
UID:3682-1590192000-1590451199@j24ireland.ie
SUMMARY:J24 UK National Championships 2020
DESCRIPTION:
URL:https://j24ireland.ie/event/j24-uk-national-championships-2020/
LOCATION:Parkstone Yacht Club\, Pearce Avenue\, Poole\, P26R+H8\, United Kingdom
END:VEVENT
END:VCALENDAR