BEGIN:VCALENDAR
VERSION:2.0
PRODID:-//J24 Ireland - ECPv4.9.1.1//NONSGML v1.0//EN
CALSCALE:GREGORIAN
METHOD:PUBLISH
X-WR-CALNAME:J24 Ireland
X-ORIGINAL-URL:https://j24ireland.ie
X-WR-CALDESC:Events for J24 Ireland
BEGIN:VEVENT
DTSTART;VALUE=DATE:20200627
DTEND;VALUE=DATE:20200629
DTSTAMP:20260420T232052
CREATED:20191007T175938Z
LAST-MODIFIED:20191007T182416Z
UID:3670-1593216000-1593388799@j24ireland.ie
SUMMARY:J24 Westerns 2020
DESCRIPTION:
URL:https://j24ireland.ie/event/j24-westerns-2020/
LOCATION:Sligo Yacht Club\, 8C4F+PH
END:VEVENT
END:VCALENDAR