BEGIN:VCALENDAR
VERSION:2.0
PRODID:-//J24 Ireland - ECPv4.9.1.1//NONSGML v1.0//EN
CALSCALE:GREGORIAN
METHOD:PUBLISH
X-WR-CALNAME:J24 Ireland
X-ORIGINAL-URL:https://j24ireland.ie
X-WR-CALDESC:Events for J24 Ireland
BEGIN:VEVENT
DTSTART;VALUE=DATE:20230908
DTEND;VALUE=DATE:20230911
DTSTAMP:20260420T214938
CREATED:20230211T115830Z
LAST-MODIFIED:20230211T115830Z
UID:4321-1694131200-1694390399@j24ireland.ie
SUMMARY:National Championships 2023
DESCRIPTION:
URL:https://j24ireland.ie/event/national-championships-2023/
LOCATION:Howth Yacht Club\, Middle Pier\, Howth Harbour\, Howth\, Dublin\, 9WQJ+HR\, Ireland
END:VEVENT
END:VCALENDAR